BEGIN:VCALENDAR
VERSION:2.0
PRODID:-//ChamberMaster//Event Calendar 2.0//EN
METHOD:PUBLISH
X-PUBLISHED-TTL:P3D
REFRESH-INTERVAL:P3D
CALSCALE:GREGORIAN
BEGIN:VEVENT
DTSTART:20261011T180000Z
DTEND:20261011T200000Z
X-MICROSOFT-CDO-ALLDAYEVENT:FALSE
SUMMARY:Walk to End Alzheimer's - Shoals
DESCRIPTION:Join us for the 2026 Walk to End Alzheimer's   Shoals\, the world's largest event to raise awareness and funds for Alzheimer's care\, support\, and research. This inspiring community event brings together people of all ages and abilities to honor those affected by Alzheimer's and to take steps toward a future without this devastating disease.\n\nDate: Sunday\, October 11th\, 2026\n\nLocation: McFarland Park\, 200 James M Spain Dr\, Florence\, AL 35630\n\nTime:\n\n\n	Registration/Check-in: 1:00 PM\n	Opening Ceremony: 2:00 PM\n	Walk to follow\n\n\nWhether you're walking in honor of a loved one\, supporting a friend\, or simply passionate about the cause\, your participation makes a difference.\n\nReady to Walk?\n\nRegister or donate today at alz.org/shoalswalk\n\nInterested in Sponsoring or Have Questions?\n\nContact Natalie Edwards\, Walk Manager   North Alabama\n\nngedwards@alz.org | (205) 216-5804 ext. 2291\n\nLet's walk together to end Alzheimer's   one step at a time.
X-ALT-DESC;FMTTYPE=text/html:<p>Join us for the&nbsp\;2026 Walk to End Alzheimer&rsquo\;s &ndash\; Shoals\, the world&rsquo\;s largest event to raise awareness and funds for Alzheimer&rsquo\;s care\, support\, and research. This inspiring community event brings together people of all ages and abilities to honor those affected by Alzheimer&rsquo\;s and to take steps toward a future without this devastating disease.</p>\n\n<p>Date:&nbsp\;Sunday\, October 11th\, 2026<br />\nLocation:&nbsp\;McFarland Park\, 200 James M Spain Dr\, Florence\, AL 35630<br />\nTime:</p>\n\n<ul>\n	<li>Registration/Check-in: 1:00 PM</li>\n	<li>Opening Ceremony: 2:00 PM</li>\n	<li>Walk to follow</li>\n</ul>\n\n<p>Whether you&#39\;re walking in honor of a loved one\, supporting a friend\, or simply passionate about the cause\, your participation makes a difference.</p>\n\n<p>Ready to Walk?<br />\nRegister or donate today at alz.org/shoalswalk</p>\n\n<p>Interested in Sponsoring or Have Questions?<br />\nContact&nbsp\;Natalie Edwards\, Walk Manager &ndash\; North Alabama<br />\n<a class="fui-Link ___w5et180 f2hkw1w f3rmtva f1ewtqcl fyind8e f1k6fduh f1w7gpdv f1mo0ibp fjoy568 ff5ikls f1s184ao f1mk8lai fnbmjn9 f1o700av f13mvf36 f1cmlufx f9n3di6 f1ids18y f1tx3yz7 f1deo86v f1eh06m1 f1iescvh fhgqx19 f1olyrje f1p93eir f1nev41a" href="mailto:ngedwards@alz.org" style="text-decoration-thickness: 1px\; box-sizing: border-box\; margin: 0px\; padding: 0px\; overflow: inherit\; display: inline\; background-color: transparent\; cursor: pointer\; color: rgb(17\, 94\, 163)\; text-overflow: inherit\; user-select: text\; font-size: inherit\; font-family: inherit\; font-weight: inherit\;" tabindex="0" target="_blank">ngedwards@alz.org</a>&nbsp\;| (205) 216-5804 ext. 2291</p>\n\n<p>Let&rsquo\;s walk together to end Alzheimer&rsquo\;s &mdash\; one step at a time.</p>\n
LOCATION:McFarland Park 200 James M Spain Dr. Florence\, AL 35630
UID:e.3317.12470
SEQUENCE:3
DTSTAMP:20260419T172112Z
URL:https://business.shoalschamber.com/events/details/walk-to-end-alzheimer-s-shoals-10-11-2026-12470
END:VEVENT

END:VCALENDAR
