BEGIN:VCALENDAR
VERSION:2.0
PRODID:-//ChamberMaster//Event Calendar 2.0//EN
METHOD:PUBLISH
X-PUBLISHED-TTL:P3D
REFRESH-INTERVAL:P3D
CALSCALE:GREGORIAN
BEGIN:VEVENT
DTSTART:20230310T230000Z
DTEND:20230311T000000Z
X-MICROSOFT-CDO-ALLDAYEVENT:FALSE
SUMMARY:Spirit of The Shoals Business Awards PRE-Event Reception
DESCRIPTION:The Shoals Chamber of Commerce hosts an annual gathering of Shoals business and community to celebrate the successes from the past year\, applaud outstanding local businesses\, and honor individuals working toward the betterment of our community. \n\nThis Pre Event Reception is for Finalists and their families\, Sponsors and invited guests only.\n\nRegistration has CLOSED for the Pre-Event -Please call the Shoals Chamber at 256.764.4661 if you need tickets.
X-ALT-DESC;FMTTYPE=text/html:<p><span style="color: rgb(0\, 0\, 0)\; font-family: &quot\;Trebuchet MS&quot\;\;">The Shoals Chamber of Commerce hosts an annual gathering of Shoals business and community to celebrate the successes from the past year\, applaud outstanding local businesses\, and honor individuals working toward the betterment of our community.&nbsp\;</span></p>\n\n<p><span style="color: rgb(0\, 0\, 0)\; font-family: &quot\;Trebuchet MS&quot\;\;">This Pre Event Reception is for Finalists and their families\, Sponsors and invited guests only.</span></p>\n\n<p><strong><span style="color: rgb(0\, 0\, 0)\; font-family: &quot\;Trebuchet MS&quot\;\;">Registration has CLOSED for the Pre-Event -Please call the Shoals Chamber at 256.764.4661 if you need tickets.&nbsp\;</span></strong></p>\n
LOCATION:Stricklin Social 317 N Court St. Suite A Florence\, AL 35630
UID:e.3317.11990
SEQUENCE:3
DTSTAMP:20260419T155157Z
URL:https://business.shoalschamber.com/events/details/spirit-of-the-shoals-business-awards-pre-event-reception-11990
END:VEVENT

END:VCALENDAR
