BEGIN:VCALENDAR
VERSION:2.0
PRODID:-//ChamberMaster//Event Calendar 2.0//EN
METHOD:PUBLISH
X-PUBLISHED-TTL:P3D
REFRESH-INTERVAL:P3D
CALSCALE:GREGORIAN
BEGIN:VEVENT
DTSTART:20240607T170000Z
DTEND:20240607T173000Z
X-MICROSOFT-CDO-ALLDAYEVENT:FALSE
SUMMARY:Ribbon Cutting McReynolds House Offices
DESCRIPTION:Please join us for the #1 Rated Chamber Member Benefit\, a Ribbon Cutting Ceremony! Ribbon provided by our Shoals Chamber member Kaleidoscope Florist.
X-ALT-DESC;FMTTYPE=text/html:<span style="color: rgb(5\, 5\, 5)\; font-family: &quot\;Segoe UI Historic&quot\;\, &quot\;Segoe UI&quot\;\, Helvetica\, Arial\, sans-serif\; font-size: 15px\;">Please join us for the #1 Rated Chamber Member Benefit\, a Ribbon Cutting Ceremony! Ribbon provided by our Shoals Chamber member Kaleidoscope Florist.</span>
LOCATION:509 North Main Street Tuscumbia\, AL 35674
UID:e.3317.12253
SEQUENCE:3
DTSTAMP:20260420T170542Z
URL:https://business.shoalschamber.com/events/details/ribbon-cutting-mcreynolds-house-offices-12253
END:VEVENT

END:VCALENDAR
