BEGIN:VCALENDAR
VERSION:2.0
PRODID:-//ChamberMaster//Event Calendar 2.0//EN
METHOD:PUBLISH
X-PUBLISHED-TTL:P3D
REFRESH-INTERVAL:P3D
CALSCALE:GREGORIAN
BEGIN:VEVENT
DTSTART:20190823T170000Z
DTEND:20190823T180000Z
X-MICROSOFT-CDO-ALLDAYEVENT:FALSE
SUMMARY:Ribbon Cutting - Cynefin CBD Store\, Sheffield
DESCRIPTION:Join us as we celebrate Cynefin CBD Store\, Sheffield!
X-ALT-DESC;FMTTYPE=text/html:Join us as we celebrate Cynefin CBD Store\, Sheffield!
LOCATION:707 E. Second Street\, Suite E Sheffield\, AL 35660
UID:e.3317.11372
SEQUENCE:3
DTSTAMP:20260421T191921Z
URL:https://business.shoalschamber.com/events/details/ribbon-cutting-cynefin-cbd-store-sheffield-11372
END:VEVENT

END:VCALENDAR
