BEGIN:VCALENDAR
VERSION:2.0
PRODID:-//ChamberMaster//Event Calendar 2.0//EN
METHOD:PUBLISH
X-PUBLISHED-TTL:P3D
REFRESH-INTERVAL:P3D
CALSCALE:GREGORIAN
BEGIN:VEVENT
DTSTART:20260514T160000Z
DTEND:20260514T170000Z
X-MICROSOFT-CDO-ALLDAYEVENT:FALSE
SUMMARY:Hearing Health & Brain Wellness: A Free Educational Event by Alabama Hearing Associates
DESCRIPTION:Did you know that untreated hearing loss is one of the leading modifiable risk factors for cognitive decline? Alabama Hearing Associates is bringing this important conversation to the Shoals community with a free\, educational event for patients\, families\, and anyone interested in protecting their long-term health.\n\nJoin Dr. Jan Liles and Dr. Sarah Kate Fisher\, alongside hearing technology partner Phonak\, for an informative and welcoming hour covering the science behind hearing and brain health\, practical steps you can take today\, and how Alabama Hearing Associates can support your hearing health journey.\n\nThis event is free and open to the community. Light refreshments will be provided.\n\n\n	Thursday\, May 14\n	11:00 AM   12:00 PM\n	Shoals Chamber of Commerce (20 Hightower Place\, Florence\, AL 35630)\n\n\nSeating is limited   RSVP is required to attend. Please let our team know if you'd like to reserve a spot and attend!\n\nEmail: madison@alabamahearing.net\n\nPhone: (256) 319-4327
X-ALT-DESC;FMTTYPE=text/html:<p>Did you know that untreated hearing loss is one of the leading modifiable risk factors for cognitive decline? Alabama Hearing Associates is bringing this important conversation to the Shoals community with a free\, educational event for patients\, families\, and anyone interested in protecting their long-term health.</p>\n\n<p>Join Dr. Jan Liles and Dr. Sarah Kate Fisher\, alongside hearing technology partner Phonak\, for an informative and welcoming hour covering the science behind hearing and brain health\, practical steps you can take today\, and how Alabama Hearing Associates can support your hearing health journey.</p>\n\n<p>This event is free and open to the community. Light refreshments will be provided.</p>\n\n<ul>\n	<li>Thursday\, May 14</li>\n	<li>11:00 AM &ndash\; 12:00 PM</li>\n	<li>Shoals Chamber of Commerce (20 Hightower Place\, Florence\, AL 35630)</li>\n</ul>\n\n<p>Seating is limited &mdash\; RSVP is required to attend. Please let our team know if you&rsquo\;d like to reserve a spot and attend!</p>\n\n<p>Email: madison@alabamahearing.net<br />\nPhone: (256) 319-4327</p>\n
LOCATION:Getting There: The Chamber is located just off Highway 133\, where Cox Creek Parkway South turns into Veterans Drive\, situated between Heritage Park and Veterans Memorial Park along the Tennessee River. Turn onto Hightower Place the Chamber shares parking with the Renaissance Shoals Resort & Spa and is directly across from Lock and Load of Florence.
UID:e.3317.12504
SEQUENCE:3
DTSTAMP:20260421T231213Z
URL:https://business.shoalschamber.com/events/details/hearing-health-brain-wellness-a-free-educational-event-by-alabama-hearing-associates-12504
END:VEVENT

END:VCALENDAR
