BEGIN:VCALENDAR
VERSION:2.0
PRODID:-//ChamberMaster//Event Calendar 2.0//EN
METHOD:PUBLISH
X-PUBLISHED-TTL:P3D
REFRESH-INTERVAL:P3D
CALSCALE:GREGORIAN
BEGIN:VEVENT
DTSTART:20260416T220000Z
DTEND:20260417T000000Z
X-MICROSOFT-CDO-ALLDAYEVENT:FALSE
SUMMARY:GunRunner Spa Glow To Bed Event
DESCRIPTION:Glow To Bed Pajama Party Event! Join us Thursday April 16\, 2026 from 5-7 PM for this Extremely Fun Night! SkinCeuticals with be here to talk about and educate us on the importance of Bedtime Skin Care. Receive your personalized Bedtime Routine and enjoy Demos\, Snacks\, and Register for our SkinCeuticals Giveaway. Come in your PJs and relax with us while you get ready for Bed! ???
X-ALT-DESC;FMTTYPE=text/html:Glow To Bed Pajama Party Event! Join us Thursday April 16\, 2026 from 5-7 PM for this Extremely Fun Night! SkinCeuticals with be here to talk about and educate us on the importance of Bedtime Skin Care. Receive your personalized Bedtime Routine and enjoy Demos\, Snacks\, and Register for our SkinCeuticals Giveaway. Come in your PJs and relax with us while you get ready for Bed! <span style="color:transparent">???</span>
LOCATION:GunRunner Spa 314 East Tennessee Street Florence\, AL 35630 256-980-6044
UID:e.3317.12487
SEQUENCE:3
DTSTAMP:20260423T210419Z
URL:https://business.shoalschamber.com/events/details/gunrunner-spa-glow-to-bed-event-12487
END:VEVENT

END:VCALENDAR
