BEGIN:VCALENDAR
VERSION:2.0
PRODID:-//ChamberMaster//Event Calendar 2.0//EN
METHOD:PUBLISH
X-PUBLISHED-TTL:P3D
REFRESH-INTERVAL:P3D
CALSCALE:GREGORIAN
BEGIN:VEVENT
DTSTART:20220408T230000Z
DTEND:20220409T010000Z
X-MICROSOFT-CDO-ALLDAYEVENT:FALSE
SUMMARY:FFCU Annual Membership Celebration
DESCRIPTION:At FFCU\, we're caring\, committed\, connected...to YOU!\n\nThat's why\, every year\, we set aside an entire day to celebrate our members and community.\n\nJoin us at McFarland Park for an evening of giveaways\, prizes\, free food\, and awesome live entertainment for all!\n\n\n\n6pm Prize Registration / Mingling\n\n7pm Event Start
X-ALT-DESC;FMTTYPE=text/html:At FFCU\, we&#39\;re caring\, committed\, connected...to YOU!<br />\nThat&#39\;s why\, every year\, we set aside an entire day to celebrate our members and community.<br />\nJoin us at McFarland Park for an evening of&nbsp\;giveaways\, prizes\, free food\, and awesome live entertainment for all!<br />\n<br />\n6pm Prize Registration / Mingling<br />\n7pm Event Start
LOCATION:McFarland Park Pavilion #1
UID:e.3317.11878
SEQUENCE:3
DTSTAMP:20260421T183917Z
URL:https://business.shoalschamber.com/events/details/ffcu-annual-membership-celebration-11878
END:VEVENT

END:VCALENDAR
