BEGIN:VCALENDAR
VERSION:2.0
PRODID:-//ChamberMaster//Event Calendar 2.0//EN
METHOD:PUBLISH
X-PUBLISHED-TTL:P3D
REFRESH-INTERVAL:P3D
CALSCALE:GREGORIAN
BEGIN:VEVENT
DTSTART:20210429T230000Z
DTEND:20210430T010000Z
X-MICROSOFT-CDO-ALLDAYEVENT:FALSE
SUMMARY:Crawfish & Shrimp Boil @ Singin River Brewing Co.
DESCRIPTION:Singin' River Brewing Crawfish & Shrimp Boil.\n\nEvery Thursday through May\n\n Crawfish & Shrimp Boil   \n\n\n\n6-8pm  EVERY Thursday - Through May\n\n\n\n$7 per lb crawfish \n\n$9 per lb includes corn and potatoes \n\n\n\n$14 per lb shrimp \n\n$16 per lb includes corn and potatoes
X-ALT-DESC;FMTTYPE=text/html:<p>Singin&#39\; River Brewing Crawfish &amp\; Shrimp Boil.<br />\nEvery Thursday through May<br />\n&#128680\;Crawfish &amp\; Shrimp Boil &#128680\;&nbsp\;<br />\n<br />\n6-8pm&nbsp\; EVERY Thursday - Through May<br />\n<br />\n$7 per lb crawfish&nbsp\;<br />\n$9 per lb includes corn and potatoes&nbsp\;<br />\n<br />\n$14 per lb shrimp&nbsp\;<br />\n$16 per lb includes corn and potatoes</p>\n\n<p>&nbsp\;</p>\n
LOCATION:Singin' River Brewing Company 526 E College St Florence\, AL 35630
UID:e.3317.11705
SEQUENCE:3
DTSTAMP:20260419T152731Z
URL:https://business.shoalschamber.com/events/details/crawfish-shrimp-boil-singin-river-brewing-co-11705
END:VEVENT

END:VCALENDAR
